BEGIN:VCALENDAR
VERSION:2.0
PRODID:-//wp-events-plugin.com//7.2.3.1//EN
TZID:Europe/Athens
X-WR-TIMEZONE:Europe/Athens
BEGIN:VEVENT
UID:8@eidikospaidagogos.gr
DTSTART;TZID=Europe/Athens:20241012T100000
DTEND;TZID=Europe/Athens:20241012T150000
DTSTAMP:20241006T112654Z
URL:https://eidikospaidagogos.gr/events/webinar-oct24-autismos-aksiologisi
 -paremvasi/
SUMMARY:Webinar «Αυτισμός – Αξιολόγηση και Τεχν
 ικές Παρέμβασης»
DESCRIPTION:\n 	Το eidikospaidagogos.gr διοργανώνει Πρακτ
 ικό Σεμινάριο (Webinar) με θέμα:
ATTACH;FMTTYPE=image/jpeg:https://i0.wp.com/eidikospaidagogos.gr/wp-conten
 t/uploads/2024/06/webinar_16.jpg?fit=1355%2C1001&ssl=1
CATEGORIES:Webinar,Σεμινάρια
END:VEVENT
BEGIN:VTIMEZONE
TZID:Europe/Athens
X-LIC-LOCATION:Europe/Athens
BEGIN:DAYLIGHT
DTSTART:20240331T040000
TZOFFSETFROM:+0200
TZOFFSETTO:+0300
TZNAME:EEST
END:DAYLIGHT
END:VTIMEZONE
END:VCALENDAR